BEGIN:VCALENDAR
VERSION:2.0
PRODID:-//Hotel Contessa - ECPv6.15.20//NONSGML v1.0//EN
CALSCALE:GREGORIAN
METHOD:PUBLISH
X-ORIGINAL-URL:https://www.thehotelcontessa.com
X-WR-CALDESC:Events for Hotel Contessa
REFRESH-INTERVAL;VALUE=DURATION:PT1H
X-Robots-Tag:noindex
X-PUBLISHED-TTL:PT1H
BEGIN:VTIMEZONE
TZID:UTC
BEGIN:STANDARD
TZOFFSETFROM:+0000
TZOFFSETTO:+0000
TZNAME:UTC
DTSTART:20250101T000000
END:STANDARD
END:VTIMEZONE
BEGIN:VEVENT
DTSTART;VALUE=DATE:20260301
DTEND;VALUE=DATE:20260401
DTSTAMP:20260420T155822
CREATED:20260304T163534Z
LAST-MODIFIED:20260305T154554Z
UID:10002217-1772323200-1775001599@www.thehotelcontessa.com
SUMMARY:Women’s History Month
DESCRIPTION:Celebrate the influence of women in spirits and hospitality with curated Veuve Clicquot cocktail features throughout the month.
URL:https://www.thehotelcontessa.com/event/womens-history-month/
ATTACH;FMTTYPE=image/png:https://www.thehotelcontessa.com/wp-content/uploads/2026/03/2.png
END:VEVENT
BEGIN:VEVENT
DTSTART;TZID=UTC:20260315T080000
DTEND;TZID=UTC:20260315T170000
DTSTAMP:20260420T155822
CREATED:20260304T164419Z
LAST-MODIFIED:20260305T154013Z
UID:10002221-1773561600-1773594000@www.thehotelcontessa.com
SUMMARY:Espresso Martini Day
DESCRIPTION:Celebrate with bold espresso martini creations featuring Ketel One Vodka and Caffè Borghetti.
URL:https://www.thehotelcontessa.com/event/espresso-martini-day/
LOCATION:Ambler Texas Kitchen + Cocktails
ATTACH;FMTTYPE=image/png:https://www.thehotelcontessa.com/wp-content/uploads/2026/03/5.png
END:VEVENT
END:VCALENDAR