BEGIN:VCALENDAR
VERSION:2.0
PRODID:-//Hotel Contessa - ECPv6.15.20//NONSGML v1.0//EN
CALSCALE:GREGORIAN
METHOD:PUBLISH
X-WR-CALNAME:Hotel Contessa
X-ORIGINAL-URL:https://www.thehotelcontessa.com
X-WR-CALDESC:Events for Hotel Contessa
REFRESH-INTERVAL;VALUE=DURATION:PT1H
X-Robots-Tag:noindex
X-PUBLISHED-TTL:PT1H
BEGIN:VTIMEZONE
TZID:UTC
BEGIN:STANDARD
TZOFFSETFROM:+0000
TZOFFSETTO:+0000
TZNAME:UTC
DTSTART:20250101T000000
END:STANDARD
END:VTIMEZONE
BEGIN:VEVENT
DTSTART;VALUE=DATE:20260111
DTEND;VALUE=DATE:20260201
DTSTAMP:20260424T095114
CREATED:20260103T192007Z
LAST-MODIFIED:20260103T192007Z
UID:10000643-1768089600-1769903999@www.thehotelcontessa.com
SUMMARY:Dry January / National Mocktail Week @ Ambler
DESCRIPTION:Zero Proof. Full Flavor.Celebrate Dry January with elevated mocktails crafted with Ritual Alternative Spirits and refreshing non-alcoholic brews from Athletic Brewing Co. – available Jan 11 through the whole month at Ambler. 
URL:https://www.thehotelcontessa.com/event/dry-january-national-mocktail-week-ambler/
ATTACH;FMTTYPE=image/png:https://www.thehotelcontessa.com/wp-content/uploads/2026/01/13.png
END:VEVENT
BEGIN:VEVENT
DTSTART;VALUE=DATE:20260117
DTEND;VALUE=DATE:20260201
DTSTAMP:20260424T095114
CREATED:20260103T185758Z
LAST-MODIFIED:20260103T190000Z
UID:10000641-1768608000-1769903999@www.thehotelcontessa.com
SUMMARY:Culinaria Restaurant Week @ Ambler
DESCRIPTION:January 17–31 | $65 Prix Fixe Dinner Menu | 5pm-Close \nJoin us at Ambler Texas Kitchen + Cocktails for a three-course Restaurant Week menu featuring: \nMenu Highlights Include:• Classic starters like a crisp wedge salad\, rich queso fundido\, and chicken-fried oysters• Hearty entrées such as bacon-wrapped pork tenderloin\, Spanish-braised short rib\, and herb-crusted Scottish salmon• Indulgent desserts including chocolate bread pudding and white chocolate lemon cheesecake \nAvailable for a limited time during Culinaria Restaurant Week\, January 17–31.
URL:https://www.thehotelcontessa.com/event/culinaria-restaurant-week-ambler/
LOCATION:Ambler Texas Kitchen + Cocktails
ATTACH;FMTTYPE=image/png:https://www.thehotelcontessa.com/wp-content/uploads/2026/01/16.png
END:VEVENT
BEGIN:VEVENT
DTSTART;TZID=UTC:20260131T113000
DTEND;TZID=UTC:20260131T150000
DTSTAMP:20260424T095114
CREATED:20260103T181916Z
LAST-MODIFIED:20260103T183950Z
UID:10000640-1769859000-1769871600@www.thehotelcontessa.com
SUMMARY:Legends of Texas: Art Exhibit Opening + Saturday Art Fair
DESCRIPTION:Saturday\, January 31\, 2025 | 11:30 AM–3:00 PM\nHotel Contessa | San Antonio River Walk \nCelebrate Texas creativity at Hotel Contessa with the opening of our Legends of Texas art exhibit\, paired with our curated Saturday Art Fair along the River Walk. \nThis new exhibit honors the stories\, symbols\, and spirit that define Texas — from iconic landscapes to legendary figures — brought to life by local artists through original works. \nJoin us for an elevated afternoon of art\, culture\, and community in one of San Antonio’s most iconic settings. \n  \n 
URL:https://www.thehotelcontessa.com/event/legends-of-texas-art-exhibit-opening-saturday-art-fair/
LOCATION:Hotel Contessa
ATTACH;FMTTYPE=image/png:https://www.thehotelcontessa.com/wp-content/uploads/2026/01/11-1.png
END:VEVENT
END:VCALENDAR