BEGIN:VCALENDAR
VERSION:2.0
PRODID:-//Hotel Contessa - ECPv6.15.20//NONSGML v1.0//EN
CALSCALE:GREGORIAN
METHOD:PUBLISH
X-ORIGINAL-URL:https://www.thehotelcontessa.com
X-WR-CALDESC:Events for Hotel Contessa
REFRESH-INTERVAL;VALUE=DURATION:PT1H
X-Robots-Tag:noindex
X-PUBLISHED-TTL:PT1H
BEGIN:VTIMEZONE
TZID:UTC
BEGIN:STANDARD
TZOFFSETFROM:+0000
TZOFFSETTO:+0000
TZNAME:UTC
DTSTART:20250101T000000
END:STANDARD
END:VTIMEZONE
BEGIN:VEVENT
DTSTART;TZID=UTC:20260101T080000
DTEND;TZID=UTC:20260101T170000
DTSTAMP:20260420T100048
CREATED:20251111T155609Z
LAST-MODIFIED:20251111T162659Z
UID:10000316-1767254400-1767286800@www.thehotelcontessa.com
SUMMARY:New Year's Day Brunch | Ambler Texas Kitchen & Cocktails
DESCRIPTION:Celebrate the first day of 2026 with a relaxed yet elevated New Year’s Day Brunch at Ambler Texas Kitchen + Cocktails. Enjoy a curated brunch menu\, seasonal additions\, and classic brunch cocktails as you take in the beauty of the River Walk. The perfect way to reset\, recharge\, and welcome the year ahead.
URL:https://www.thehotelcontessa.com/event/new-years-day-brunch-ambler-texas-kitchen-cocktails/
ATTACH;FMTTYPE=image/jpeg:https://www.thehotelcontessa.com/wp-content/uploads/2025/09/ContessaSA_0225_GS_Ambler_Full-41.jpg
END:VEVENT
END:VCALENDAR